BEGIN:VCALENDAR
VERSION:2.0
CALSCALE:GREGORIAN
PRODID:-//MyApp//Calendar 1.0//EN
BEGIN:VEVENT
METHOD:PUBLISH
UID:56911@regionalniportaly.cz
DTSTAMP:20260423T032319Z
DTSTART;VALUE=DATE:20250906
DTEND;VALUE=DATE:20250907
SUMMARY:Labil bones
DESCRIPTION:Labil Bones – Znovu věčně znovuPředstavení pro celou rodinuVolné pokračování představení sokolské série. Tentokrát jde o grotesku o generačním střetu. Rovněž půjde o tužení těla i ducha pomocí sportu a vysokých ideálů. Dva „herci“ obsazení do čtyř charakterů předvedou kus plný převleků\, honiček\, gagů\, akrobacie i velkých myšlenek. Chvíli je spatříte v kůži zasloužilých kmetů a hned další moment jako ambiciózní mladíky. Střídání bude tak rychlé\, že neuvěříte\, že je na jevišti pouhé duo.Režie: Petr Jarčevský.Hrají: Michal Chovanec\, Ondřej Klíč. Délka představení: 60 minut.&nbsp\;Na základě svých představení bylo toto duo vybráno ke spolupráci se slovutným Cirque du Soleil.
LOCATION:Moravský Krumlov
END:VEVENT
END:VCALENDAR