BEGIN:VCALENDAR
VERSION:2.0
CALSCALE:GREGORIAN
PRODID:-//MyApp//Calendar 1.0//EN
BEGIN:VEVENT
METHOD:PUBLISH
UID:56909@regionalniportaly.cz
DTSTAMP:20260423T020504Z
DTSTART;VALUE=DATE:20250906
DTEND;VALUE=DATE:20250907
SUMMARY:Labil bones - Cvičenci za čarou
DESCRIPTION:Labile Bones – Cvičenci za čarouPředstavení pro celou rodinu.Pod heslem „ve zdravém těle\, zdravý duch“ se dva sokolové snaží zacvičit dokonalou sestavu. Jejich touha je však příliš velká. Vlastní urputnost se pro ně stává největší překážkou a grandiózní fiasko se blíží ke svému finále! Michal Chovanec a Ondřej Klíč propojují prvky pantomimy\, klauniády a absurdního divadla. Přináší do divadelního prostoru energii\, vtip a radost ze hry. Interagují s publikem a přináší prvky akrobacie a fyzického divadla.Hrají: Michal Chovanec\, Ondřej KlíčDélka představení cca 50 - 60 minut.Cena: 90 Kč
LOCATION:Moravský Krumlov
END:VEVENT
END:VCALENDAR