BEGIN:VCALENDAR
VERSION:2.0
CALSCALE:GREGORIAN
PRODID:-//MyApp//Calendar 1.0//EN
BEGIN:VEVENT
METHOD:PUBLISH
UID:56763@regionalniportaly.cz
DTSTAMP:20260422T105307Z
DTSTART;VALUE=DATE:20260127
DTEND;VALUE=DATE:20260128
SUMMARY:Kristián Šebek a Slawinski Orchestra ve Zbýšově
DESCRIPTION:
LOCATION:Zbýšov
END:VEVENT
END:VCALENDAR