BEGIN:VCALENDAR
VERSION:2.0
CALSCALE:GREGORIAN
PRODID:-//MyApp//Calendar 1.0//EN
BEGIN:VEVENT
METHOD:PUBLISH
UID:56601@regionalniportaly.cz
DTSTAMP:20260422T124813Z
DTSTART;VALUE=DATE:20251122
DTEND;VALUE=DATE:20251123
SUMMARY:Morčata na útěku a Point Five v Moravském Krumlově
DESCRIPTION:Do Moravského Krumlova dorazí z nedalekého Brna kapela Morčata na útěku!Tahle banda si nebere servítky a dělá si legraci úplně ze všeho – české i světové hity předělávají tak\, že je možná ani vlastní autoři nepoznají. A hlavně!&nbsp\;Přivezou show\, jakou jste ještě neviděli (a možná ani nezažili)!V listopadu tohoto roku to pánové&nbsp\;v Rakšické orlovně rozjedou ve velkém. Čeká vás hodina a půl hudebního chaosu té nejvyšší kvality – samozřejmě v jejich originálním\, morčacím stylu. Žádné polovičaté hraní\, ale pořádná nálož srandy a muziky. Tak si to nenechte ujít\, bude to hukot!A aby toho nebylo málo\, jako předkapela zahraje mladá\,&nbsp\;ambiciózní skupina&nbsp\;Point Five!Sice nejsou tak sprostí jako hlavní hvězda&nbsp\;večera\, ale zato mají repertoár nejen v češtině\, ale i v angličtině. Tak si radši opraš angličtinu\, ať neskončíš jako Standa Řezáč se svou „VERY GUT ŠŮŠN“.Zapiš datum 22.11. do kalendáře a přijď se svojí Lídou do orlovny v Rakšicích.Vstupné:Předprodej: 450 KčNa místě: 550 KčČASOVÝ HARMONOGRAM:19:00 - Otevření sálu20:00 - Point Five21:30 - Morčata na útěku
LOCATION:Moravský Krumlov
END:VEVENT
END:VCALENDAR