BEGIN:VCALENDAR
VERSION:2.0
CALSCALE:GREGORIAN
PRODID:-//MyApp//Calendar 1.0//EN
BEGIN:VEVENT
METHOD:PUBLISH
UID:56531@regionalniportaly.cz
DTSTAMP:20260423T001129Z
DTSTART;VALUE=DATE:20250823
DTEND;VALUE=DATE:20250824
SUMMARY:Hradozámecká noc
DESCRIPTION:V sobotu 23. srpna 2025 se v rámci tradiční Hradozámecké noci otevřou dveře zámecké věže\, která doslova ožije minulostí.\n Zveme vás na jedinečný večer plný historie\, tajemství a divadelních příběhů! \nPřipravujeme netradiční večerní prohlídku s průvodkyní\, která vás zavede do jednotlivých pater věže\, kde se odehrají scénky inspirované osudy významných osobností: Paracelsus a Jan III. z Lipé – tajemství alchymie a moc šlechty Princ Mořic z Liechtensteina – mladší syn Karla Boromeje a jeho příběh\nPřijďte zažít atmosféru historického zámku pod rouškou noci a nechte se unést dramatickými příběhy minulosti! \n \nČasy prohlídek – 18:30\, 19:30\, 20:30\, 21:30. Vstupné – děti 6-15 let 140 Kč\, dospělí 190 Kč. 
LOCATION:Moravský Krumlov
END:VEVENT
END:VCALENDAR