BEGIN:VCALENDAR
VERSION:2.0
CALSCALE:GREGORIAN
PRODID:-//MyApp//Calendar 1.0//EN
BEGIN:VEVENT
METHOD:PUBLISH
UID:56200@regionalniportaly.cz
DTSTAMP:20260423T032854Z
DTSTART;VALUE=DATE:20250914
DTEND;VALUE=DATE:20250915
SUMMARY:Arakain & Leona Machálková - Oslavanské historické slavnosti
DESCRIPTION:Zažijte jedinečné hudební spojení! V rámci Oslavanských historických slavností 2025 vystoupí v zámeckém parku v Oslavanech legendární česká metalová kapela Arakain\, která už od 80. let přináší energický heavy metal a nezaměnitelnou show.Speciálním hostem bude Leona Machálková – přední česká zpěvačka známá z muzikálů jako Dracula nebo Kleopatra\, která se představí se svou kapelou.Děti do 15 let mají vstup zdarma.&nbsp\;&nbsp\;
LOCATION:Oslavany
END:VEVENT
END:VCALENDAR