BEGIN:VCALENDAR
VERSION:2.0
CALSCALE:GREGORIAN
PRODID:-//MyApp//Calendar 1.0//EN
BEGIN:VEVENT
METHOD:PUBLISH
UID:55908@regionalniportaly.cz
DTSTAMP:20260422T155528Z
DTSTART;VALUE=DATE:20250919
DTEND;VALUE=DATE:20250921
SUMMARY:CreepyCon 2025
DESCRIPTION:Třídenní festival prosycený tématem záhad\, creepypast\, městských i jiných legend\, pověstí a hororu\, pořádaný ve spolupráci s KIS Oslavany. Jedinečná příležitost potkat se s lidmi\, kteří chápou váš zájem o záhady a tajemno. Pod pokličkou temnoty pro vás připravujeme ty nejvytříbenější pokrmy z naší mrazivé kuchyně.Těšit se můžete na bohatý program – přednášky\, besedy\, soutěže a hry\, ale také na známá jména české temné YouTube scény\, creepypastery\, přední autory českých krátkometrážních hororových filmů\, herce\, jejichž jména či hlasy jste již stoprocentně někde slyšeli\, ale i běžné hororové nadšence či milovníky tajemna.&nbsp\;Mezi ohlášenými hosty je například spisovatel novinář Josef Klíma\, spisovatel a záhadolog&nbsp\;Jaroslav Mareš či herec a dabér Aleš Procházka\, Eduard Birke a Adam Miklica z Abecedy strachu\, hypnotizér a mentalista Jakub Kroulík\, Martin a Zašek z podcastu Díra\, případně etnolog a folklorista\, autor série Černá sanitka\,&nbsp\;Petr Janeček.&nbsp\;Další hosté budou brzy oznámeni.V rámci festivalu proběhne také metalový koncert skupiny DAVID HRADÍLEK BAND\, která hraje písně na motivy hororových povídek jejich zpěváka.&nbsp\;PROGRAM V HLAVNÍM SÁLE:PÁTEK:18:00 – Slavnostní zahájení18:15 – Vodníczech – Lovecraftovy světy (divadlo)19:30 – České podsvětí Josefa Klímy22:00 – Jakub Kroulík – Umění kontaktu s druhou stranou23:15 – Děsivé povídání na dobrou noc&nbsp\;STRACH V KINĚ:PÁTEK20:00 - SAMHAIN (Mysteriózní | Thriller | Krimi\, 114 min.\, 2024\, Česko)VSTUPNÉ: 100 KČ (50 Kč pro CLUB27)SOBOTA13:00 - SPALOVAČ MRTVOL (Psychologický | Tragikomedie | Podobenství. 97 min\, 1968\, Československo)VSTUPNÉ: ZDARMA15:00 - POPŘENÍ&nbsp\;(Poetický | Experimentální | Mysteriózní | Drama. 83 min.\, 2024\, ČeskoúVSTUPNÉ: ZDARMA&nbsp\;&nbsp\;
LOCATION:Oslavany
END:VEVENT
END:VCALENDAR