BEGIN:VCALENDAR
VERSION:2.0
CALSCALE:GREGORIAN
PRODID:-//MyApp//Calendar 1.0//EN
BEGIN:VEVENT
METHOD:PUBLISH
UID:55738@regionalniportaly.cz
DTSTAMP:20260423T000014Z
DTSTART;VALUE=DATE:20250627
DTEND;VALUE=DATE:20250628
SUMMARY:JAK VYCVIČIT DRAKA
DESCRIPTION:
LOCATION:Zbýšov
END:VEVENT
END:VCALENDAR