BEGIN:VCALENDAR
VERSION:2.0
CALSCALE:GREGORIAN
PRODID:-//MyApp//Calendar 1.0//EN
BEGIN:VEVENT
METHOD:PUBLISH
UID:55409@regionalniportaly.cz
DTSTAMP:20260422T222119Z
DTSTART;VALUE=DATE:20250705
DTEND;VALUE=DATE:20250706
SUMMARY:Letní Kino: Jak se nám to mohlo stát!?
DESCRIPTION:Ve filmu\, který nám ukáže\, že ty největší rozdíly mezi lidmi mohou být zdrojem humoru a inspirace\, se představí také Jitka Čvančarová\, Eva Leinweberová\, Simona Lewandovská\, Jiří Ployhar\, Ondřej Bauer\, Tereza Blažková a Filip Červenka. Děj filmu se točí kolem střetu dvou naprosto odlišných rodin – aristokratických Cimburk-Kolovratníků a skromnějších Novákových\, kteří se setkávají u příležitosti plánované svatby svých dětí. Budoucí nevěsta a ženich při té příležitosti nabídnou svým rodičům testy DNA\, které odhalí jejich skutečný původ. Výsledky jsou naprosto nečekané a zapříčiní efekt bomby.
LOCATION:Dolní Kounice
END:VEVENT
END:VCALENDAR