BEGIN:VCALENDAR
VERSION:2.0
CALSCALE:GREGORIAN
PRODID:-//MyApp//Calendar 1.0//EN
BEGIN:VEVENT
METHOD:PUBLISH
UID:55340@regionalniportaly.cz
DTSTAMP:20260422T074450Z
DTSTART;VALUE=DATE:20260308
DTEND;VALUE=DATE:20260309
SUMMARY:Miro Jaroš ve Zbýšově!
DESCRIPTION:Koncert\, vystoupení známého dětského idola. Děti do 2 let bez nároku na sedadlo vstup zdarma!&nbsp\;&nbsp\;
LOCATION:Zbýšov
END:VEVENT
END:VCALENDAR