BEGIN:VCALENDAR
VERSION:2.0
CALSCALE:GREGORIAN
PRODID:-//MyApp//Calendar 1.0//EN
BEGIN:VEVENT
METHOD:PUBLISH
UID:55248@regionalniportaly.cz
DTSTAMP:20260422T074430Z
DTSTART;VALUE=DATE:20260225
DTEND;VALUE=DATE:20260226
SUMMARY:Chlapi radši lžou
DESCRIPTION:
LOCATION:Zbýšov
END:VEVENT
END:VCALENDAR