BEGIN:VCALENDAR
VERSION:2.0
CALSCALE:GREGORIAN
PRODID:-//MyApp//Calendar 1.0//EN
BEGIN:VEVENT
METHOD:PUBLISH
UID:55246@regionalniportaly.cz
DTSTAMP:20260422T092443Z
DTSTART;VALUE=DATE:20260125
DTEND;VALUE=DATE:20260126
SUMMARY:POLIB TETIČKU aneb NIKDO NENÍ BEZ CHYBY
DESCRIPTION:
LOCATION:Zbýšov
END:VEVENT
END:VCALENDAR