BEGIN:VCALENDAR
VERSION:2.0
CALSCALE:GREGORIAN
PRODID:-//MyApp//Calendar 1.0//EN
BEGIN:VEVENT
METHOD:PUBLISH
UID:55126@regionalniportaly.cz
DTSTAMP:20260423T000410Z
DTSTART;VALUE=DATE:20250618
DTEND;VALUE=DATE:20250619
SUMMARY:ŠKOLNÍ AKADEMIE - středa
DESCRIPTION:ZŠ Zbýšov&nbsp\;Vás srdečně zve na školní akademii.Vystoupení proběhnou ve dvou termínech (identická vystoupení).&nbsp\;Těšíme se na Vás.
LOCATION:Zbýšov
END:VEVENT
END:VCALENDAR