BEGIN:VCALENDAR
VERSION:2.0
CALSCALE:GREGORIAN
PRODID:-//MyApp//Calendar 1.0//EN
BEGIN:VEVENT
METHOD:PUBLISH
UID:55125@regionalniportaly.cz
DTSTAMP:20260423T032341Z
DTSTART;VALUE=DATE:20250619
DTEND;VALUE=DATE:20250620
SUMMARY:ŠKOLNÍ AKADEMIE - čtvrtek
DESCRIPTION:ZŠ Zbýšov Vás srdečně zve na školní akademii.Vystoupení proběhnou&nbsp\;ve dvou termínech (identická vystoupení).&nbsp\;Těšíme se na Vás.
LOCATION:Zbýšov
END:VEVENT
END:VCALENDAR