BEGIN:VCALENDAR
VERSION:2.0
CALSCALE:GREGORIAN
PRODID:-//MyApp//Calendar 1.0//EN
BEGIN:VEVENT
METHOD:PUBLISH
UID:55117@regionalniportaly.cz
DTSTAMP:20260422T221713Z
DTSTART;VALUE=DATE:20250803
DTEND;VALUE=DATE:20250804
SUMMARY:Koncert Nikola Mucha
DESCRIPTION:Nikola Mucha&nbsp\;je česká punková&nbsp\;písničkářka. Vystupuje od svých 15 let\,&nbsp\;jak sólově\, tak s dalšími muzikanty. Hrála v kyjovské kapele Bumasifma\,&nbsp\;nyní má kolem sebe kapelu Mucha.&nbsp\;
LOCATION:Moravský Krumlov
END:VEVENT
END:VCALENDAR