BEGIN:VCALENDAR
VERSION:2.0
CALSCALE:GREGORIAN
PRODID:-//MyApp//Calendar 1.0//EN
BEGIN:VEVENT
METHOD:PUBLISH
UID:55079@regionalniportaly.cz
DTSTAMP:20260423T001325Z
DTSTART;VALUE=DATE:20250808
DTEND;VALUE=DATE:20250809
SUMMARY:Koncert Let Mouchy CZ-NY
DESCRIPTION:Otto Hejnic trio&nbsp\;Alan Bartuš - pianoConway Campbell Jr. - kontrabasOtto Hejnic - bicíOtto Hejnic trioOH3 existuje od roku 2009\, má na svém kontě pět úspěšných alb\, cenukritiků za nejlepší album\, vynikající recenze a řadu koncertů i zaoceánem. Jde o klasické piano trio\, jehož leadrem je bubeník. Pestrostalb OH3 je zřejmá\, od autorské hudby po jazzové standardy až k filmovýmmelodiím alba Beauties. Pro své letní turné Hejnic přiváží vynikajícíetablované Newyorčany\, pianistu Alana Bartuše a kontrabasistu ConwayeCampbella Jr.Otto HejnicVynikající bubeník\, má na svém kontě osm autorských alb. Své posledníalbum natáčel v New Yorku a vydal je na konci roku 2024 u labelu AttraRecords. Na albu hrají věhlasní hráči\, u nás dobře známý hammondistaBrian Charette (Joni Mitchell\, Simon &amp\; Garfunkel) a legendární kytaristaPeter Bernstein.Alan BartušJeden z nejlepších jazzových klavíristů nejmladší generace. PůvodemSlovák\, který se přestěhoval s rodinou do Vídně\, kde vyrůstal v jazzovémprostředí\, silně inspirován svým otcem\, vynikajícím slovenskýmkontrabasistou Pištou Bartušem. Ve svých 22 letech začal studovat jednuz nejlepších jazzových škol na světě\, newyorskou Manhattan School ofMusic. Nyní dokončil druhý ročník a začíná hrávat s významnými jazzovýmihráči - Jerry Bergonzi\, Jeff Tain Wats\, Bob Hurts\, Gregory Hutchinsonatd. Vystupuje v newyorských jazz clubech\, ale i na velkých podiích\,jako např. NYC Lincoln center.Byl semifinalistou na prestižní jazzové soutěži Herbie HancockInternational Piano Competition v New Yorku. Vítěz soutěží: Ö1 JazzPrice winner\, Grand Maestro International Music Competition 1st place\,Langnau International Piano Competition. Vydal dvě vlastní studiováalba.Conway Campbell Jr.Je jedním z nejtalentovanějších kontrabasistů mladé generace\, žije v NewYorku a také studuje na Manhattan School of Music u legendárního BusteraWilliamse. Pravidelně vystupuje v NYC jazz clubech a stihl si zahrát spěknou řadou významných hudebníků\, například s mladou zpěvačkou SamarouJoy\, která má na svém kontě již pět Grammy.&nbsp\;
LOCATION:Moravský Krumlov
END:VEVENT
END:VCALENDAR