BEGIN:VCALENDAR
VERSION:2.0
CALSCALE:GREGORIAN
PRODID:-//MyApp//Calendar 1.0//EN
BEGIN:VEVENT
METHOD:PUBLISH
UID:55078@regionalniportaly.cz
DTSTAMP:20260422T222140Z
DTSTART;VALUE=DATE:20250809
DTEND;VALUE=DATE:20250810
SUMMARY:Promítání filmu "Pán much"
DESCRIPTION:Pán muchLord of the Flies&nbsp\;Dobrodružný / Drama / ThrillerUSA\, 1990\, 86 minRežie:Harry HookPředloha:William Golding&nbsp\;(kniha)Scénář:Jay Presson AllenKamera:Martin FuhrerHudba:Philippe SardeHrají:Balthazar Getty\, Chris Furrh\, Danuel Pipoly\, James Badge Dale\, Bob Peck\, Michael Greene(další profese)&nbsp\;Letadlo plné mladých vojenských kadetů ztroskotá na odlehlém\, pustém ostrově. Pětadvacet chlapců zvyklých na tvrdý dohled dospělých nově nabytou svobodu nejprve uvítá\, ale poté se rozdělí na dva tábory. Jeden z nich uznává hodnoty civilizace\, zatímco ten druhý přijme za své zákony divočiny\, která je obklopuje\, a pustí se do sadistických her\, rituálů a trestů.&nbsp\;
LOCATION:Moravský Krumlov
END:VEVENT
END:VCALENDAR