BEGIN:VCALENDAR
VERSION:2.0
CALSCALE:GREGORIAN
PRODID:-//MyApp//Calendar 1.0//EN
BEGIN:VEVENT
METHOD:PUBLISH
UID:55077@regionalniportaly.cz
DTSTAMP:20260422T221402Z
DTSTART;VALUE=DATE:20250807
DTEND;VALUE=DATE:20250808
SUMMARY:Koncert Mucha Trio
DESCRIPTION:Mucha trio je unikátní složení tří mladých českých umělkyň. Společně vystupují &nbsp\;již od roku 2014 a procestovaly velkou část Evropy a vystoupily na významných festivalech (Bruno Walter Musik Tage\, Wolfsburg Prag-live\, Pražské klarinetové dny\, Podkrkonošské hudební léto…). Všechny tři hráčky působí také na sólové dráze a jejich syntéza přenáší mládí a inspiraci jejich publiku. Nedávno premiérovaly skladbu „Mozaiky” Kateřiny Horké. Jméno souboru je zvoleno na počest malíři Alfonsu Muchovi a skladatelce Geraldine Mucha.Účinkují:Anna Paulová (klarinet): laureátka soutěže Pražské jaro 2015 (2. cena)\, Laureátka soutěže nadace Bohuslava Martinů 2016\, semifinalistka mezinárodní soutěže ARD v&nbsp\;Mnichově (2019).Ludmila Pavlová (housle): absolutní vítězka Mezinárodní houslové soutěže „Nové evropské talenty“ a laureátka soutěže Bohuslava Martinů s cennou za nejlepší interpretaci díla Bohuslava Martinů a cenou Nadace Jaroslava a Zorky Zichových.Johanna Haniková (klavír): dvojnásobná laureátka Mezinárodní smetanovské klavírní soutěže a držitelka Ceny Bedřicha Smetany.Výběr z repertoáru:Aram Chačaturjan: Trio pro klarinet\, housle a klavírDarius Milhaud: Suita pro housle\, klarinet a klavír\, Op. 157bIgor Stravinskij: Suita „Příběh vojáka“Béla Bartók: KontrastyKarel Husa: Sonata a treWaldemar von Baussnern: Serenáda pro housle\, klarinet a klavírDmitrij Šostakovič: 5 kusůWolfgang Amadeus Mozart: Kegelstatt trio\, KV 498Kateřina Horká: MozaikyMartin Kux: Chvíle před rozjasněnímŠtěpán Pokorný: Vzpomínky na Podkrkonoší
LOCATION:Moravský Krumlov
END:VEVENT
END:VCALENDAR