BEGIN:VCALENDAR
VERSION:2.0
CALSCALE:GREGORIAN
PRODID:-//MyApp//Calendar 1.0//EN
BEGIN:VEVENT
METHOD:PUBLISH
UID:55075@regionalniportaly.cz
DTSTAMP:20260422T221418Z
DTSTART;VALUE=DATE:20250805
DTEND;VALUE=DATE:20250806
SUMMARY:Ženská epopej
DESCRIPTION:Úspěšné představení Martiny Balážové v obnovené premiéře speciálně profestival Muchafest a pro Moravský Krumlov.Vizuálně pohybová inscenace o životě a díle malíře Alfonse Muchy. Cyklus čtyřročních období\, čtyř žen\, které osudově vstoupily do umělcova života\,symbolicky oscilující mezi dětstvím a stářím člověka obdařeného výraznýmtalentem. A věčná otázka\, kterou se trápil i sám malíř\, zdali talent přinášívysvobození\, či prokletí...?Pózy krásek z plakátů\, které se s účinností podprahové reklamy zafixovaly v našímysli\, zaujímá v maketě secesního rámu Martina Balážová. A když z něhovystoupí\, bere na sebe – jednu po druhé a ve čtyřech etapách - role průvodkyňMuchovým životním obloukem: sestry Anny\, herečky Sarah Bernhardtové\,manželky Marie Chytilové a zesnulé maminky Amálie. Text kombinuje známáfakta z umělcova životopisu s autobiografickými výroky.&nbsp\;„Být opěvován i zatracován\, ale pořád někoho upoutávat…“Scénář: Martina BalážováDramaturgie: Marcela MagdováVýprava: Dominika LippertováHudba: Jakub Pospíšil\, Tomáš Sýkora\, Ondřej ValentaChoreografie: Petra Pellarová-MrázikováRežie: Martin SatoranskýHrají: Martina Balážová\, Tomáš Sýkora\, Jindřich ČížekDélka představení: 55 minut
LOCATION:Moravský Krumlov
END:VEVENT
END:VCALENDAR