BEGIN:VCALENDAR
VERSION:2.0
CALSCALE:GREGORIAN
PRODID:-//MyApp//Calendar 1.0//EN
BEGIN:VEVENT
METHOD:PUBLISH
UID:55052@regionalniportaly.cz
DTSTAMP:20260422T220943Z
DTSTART;VALUE=DATE:20250804
DTEND;VALUE=DATE:20250805
SUMMARY:Promítání filmu "Moucha"
DESCRIPTION:MouchaThe Fly&nbsp\;&nbsp\;Drama / Horor / Sci-FiUSA / Velká Británie / Kanada\, 1986\, 96 minRežie:David CronenbergPředloha:George Langelaan&nbsp\;(povídka)Scénář:David Cronenberg\, Charles Edward PogueKamera:Mark IrwinHudba:Howard ShoreHrají:Jeff Goldblum\, Geena Davis\, John Getz\, Joy Boushel\, Leslie Carlson\, George Chuvalo\, Michael Copeman\, David Cronenberg
LOCATION:Moravský Krumlov
END:VEVENT
END:VCALENDAR