BEGIN:VCALENDAR
VERSION:2.0
CALSCALE:GREGORIAN
PRODID:-//MyApp//Calendar 1.0//EN
BEGIN:VEVENT
METHOD:PUBLISH
UID:55051@regionalniportaly.cz
DTSTAMP:20260422T221505Z
DTSTART;VALUE=DATE:20250802
DTEND;VALUE=DATE:20250803
SUMMARY:Koncert: Mucha Quartet
DESCRIPTION:Program (cca. 65 min.):Ludwig van Beethoven (1770-1827): Sláčikové kvarteto č. 1 F dur\, op. 18/1Peter Machajdík (1961): Beyond The AbyssMaurice Ravel (1875-1937): Sláčikové kvarteto F dur
LOCATION:Moravský Krumlov
END:VEVENT
END:VCALENDAR