BEGIN:VCALENDAR
VERSION:2.0
CALSCALE:GREGORIAN
PRODID:-//MyApp//Calendar 1.0//EN
BEGIN:VEVENT
METHOD:PUBLISH
UID:54647@regionalniportaly.cz
DTSTAMP:20260423T000317Z
DTSTART;VALUE=DATE:20250705
DTEND;VALUE=DATE:20250706
SUMMARY:Speciální prohlídky s majitelem hradu a zámku s ochutnávkou dolnokounické frankovky
DESCRIPTION:Vstupte do světa historie a tajemství majestátního hrady\, kde Vás osobně provede jeho současný majitel. Zavede Vás i do běžně nepřístupných částí hradu a osobně Vám bude vyprávět příběhy plné záhad\, legend a historických souvislostí. Seznámíte se s pohledem na hradní život z perspektivy jeho majitele a na závěr ochutnáte vyhlášenou dolnokounickou Frankovku.
LOCATION:Dolní Kounice
END:VEVENT
END:VCALENDAR