BEGIN:VCALENDAR
VERSION:2.0
CALSCALE:GREGORIAN
PRODID:-//MyApp//Calendar 1.0//EN
BEGIN:VEVENT
METHOD:PUBLISH
UID:54646@regionalniportaly.cz
DTSTAMP:20260422T222221Z
DTSTART;VALUE=DATE:20250620
DTEND;VALUE=DATE:20250622
SUMMARY:Křesťanský hudební festival Kefasfest
DESCRIPTION:Kefasfest je křesťanský multižánrový festival\, který se koná v historickém areálu Rosa coeli na konci června. Čeká na vás nabitý program plný koncertů\, inspirativních přednášek\, festivalových chval a workshopů. Můžete se těšit na kavárnu\, čajovnu\, spoustu jídla\, vodní atrakce\, sportovní vyžití a mnoho dalšího. Tak přijeďte a pojďme společně vytvořit jeden tým\, který společně dobývá Boží království.
LOCATION:Dolní Kounice
END:VEVENT
END:VCALENDAR