BEGIN:VCALENDAR
VERSION:2.0
CALSCALE:GREGORIAN
PRODID:-//MyApp//Calendar 1.0//EN
BEGIN:VEVENT
METHOD:PUBLISH
UID:54568@regionalniportaly.cz
DTSTAMP:20260422T222129Z
DTSTART;VALUE=DATE:20250523
DTEND;VALUE=DATE:20250524
SUMMARY:Lilo & Stitch
DESCRIPTION:
LOCATION:Zbýšov
END:VEVENT
END:VCALENDAR