BEGIN:VCALENDAR
VERSION:2.0
CALSCALE:GREGORIAN
PRODID:-//MyApp//Calendar 1.0//EN
BEGIN:VEVENT
METHOD:PUBLISH
UID:54318@regionalniportaly.cz
DTSTAMP:20260423T014608Z
DTSTART;VALUE=DATE:20250518
DTEND;VALUE=DATE:20250831
SUMMARY:Komentované prohlídky farmy v Dobřínsku každou neděli od 10 hodin
DESCRIPTION:KOMENTOVANÉ PROHLÍDKY FARMY V DOBŘÍNSKUkaždou neděli – ideální tip na výlet pro celou rodinuV neděli 27. dubna proběhla na rodinné farmě a Penzionu Pastouška v Dobřínsku první komentovaná prohlídka pro veřejnost. Zájem návštěvníků předčil očekávání a proto se nyní budou prohlídky konat pravidelně každou neděli od 10 hodin.Na farmě se můžete setkat s domácími zvířaty\, nahlédnout do každodenní práce místních hospodářů a ochutnat atmosféru opravdového venkova.\nVychází se od penzionu a prohlídka trvá přibližně hodinu. Prohlídky jsou vhodné pro všechny věkové kategorie - seniory\, rodiny s dětmi\, páry\, školní skupiny i pracovní kolektivy. Pro větší skupiny je možné domluvit individuální termín mimo neděli.\nVstupné pro dospělé je 50 korun\, děti mají vstup zdarma. Vzhledem k omezené kapacitě organizátoři doporučují rezervaci na nedělní termíny.\nSoučástí areálu je i restaurace s domácí kuchyní a možnost ubytování v rodinném penzionu\, což z Pastoušky dělá ideální místo nejen pro výlet\, ale i víkendový pobyt.Více informací a rezervace: www.penzion-pastouska.cz a našich sociálních sítích (facebook\, Instagram)
LOCATION:Dobřínsko
END:VEVENT
END:VCALENDAR