BEGIN:VCALENDAR
VERSION:2.0
CALSCALE:GREGORIAN
PRODID:-//MyApp//Calendar 1.0//EN
BEGIN:VEVENT
METHOD:PUBLISH
UID:54259@regionalniportaly.cz
DTSTAMP:20260422T185316Z
DTSTART;VALUE=DATE:20251028
DTEND;VALUE=DATE:20251029
SUMMARY:PŘÁNÍ
DESCRIPTION:PREMIÉRA 13. BŘEZNA 2025Herce Janu Paulovou a Marka Němce přivádí poprvé na společné jeviště původní komedie od Romana Vencla\, jednoho z&nbsp\;nejhranějších českých autorů současnosti.Hra Přání je plná jiskřivých slovních výměn a výborně vystavěných i překvapivých situací. Je vtipná\, současně jímavá a křehká. Vypráví příběh o tom\, že přání se plní. I ta nejtajnější. Dokonce i ta\, která se splnit snad ani neměla…Jeden hotelový pokoj\, v něm dva vzájemně si cizí lidé a velmi netradiční přání\, které se zdá být posledním. To je výchozí situace autorské komedie\, která vznikla tak říkajíc přímo na tělo oblíbené komediální herečce Janě Paulové u příležitosti jejího životního jubilea.Přání je tak dárkem všem divákům\, kteří si oblíbili její neodolatelný smysl pro humor\, nevyčerpatelnou životní energii a úžasnou nonšalantnost\, s jakou neúnavně a spolehlivě baví a okouzluje publikum napříč celou republikou.Jevištním partnerem jí je výborný televizní a divadelní herec\, ale také talentovaný režisér Marek Němec.Nechte se jejich prostřednictvím pobavit i dojmout.&nbsp\;
LOCATION:Zbýšov
END:VEVENT
END:VCALENDAR