BEGIN:VCALENDAR
VERSION:2.0
CALSCALE:GREGORIAN
PRODID:-//MyApp//Calendar 1.0//EN
BEGIN:VEVENT
METHOD:PUBLISH
UID:54064@regionalniportaly.cz
DTSTAMP:20260422T124742Z
DTSTART;VALUE=DATE:20251204
DTEND;VALUE=DATE:20251205
SUMMARY:Cena za něžnost
DESCRIPTION:Jak je důležité neztratit v životě humor a lásku i v těch nejtěžších chvílích\, které člověka potkají.Dojemný příběh o matce a dceři a jednom astronautovi.&nbsp\;Osoby a obsazení:Aurora Simona StašováGarrett&nbsp\; Miroslav EtzlerEmma&nbsp\; Kamila TrnkováMaise Otakar Brousek ml.&nbsp\; /&nbsp\; Jan Teplý ml.Patsy&nbsp\; Jessica Bechyňová&nbsp\;Ze záznamu:Samuel Etzler\, Jana Kotrbatá\, Lukáš RousRežie:&nbsp\;Vladimír StrniskoPřeklad:&nbsp\;Pavel DominikScéna:&nbsp\;Martin ČernýKostýmy: Michaela ČervenkováHudba:&nbsp\;Kamil HolubMaskérka: Eva HruškováKostymérka: Radka ŠedováTechnici: Petr Mrázek\, Václav Skalník\, Sebastián Ečer\, Martin SvobodaProdukce&nbsp\;Divadlo Lucie Bílé a Agentura HARLEKÝN
LOCATION:Zbýšov
END:VEVENT
END:VCALENDAR