BEGIN:VCALENDAR
VERSION:2.0
CALSCALE:GREGORIAN
PRODID:-//MyApp//Calendar 1.0//EN
BEGIN:VEVENT
METHOD:PUBLISH
UID:53828@regionalniportaly.cz
DTSTAMP:20260423T015428Z
DTSTART;VALUE=DATE:20250722
DTEND;VALUE=DATE:20250723
SUMMARY:Hudba pro Slovanskou epopej
DESCRIPTION:Epopej pro dva sbory s doprovodem dvou nástrojů vznikla v roce 2025 na objednávku Hudebního festivalu Znojmo jako hudební kontrapunkt k Muchově monumentálnímu cyklu obrazů. Autor textu Jan Tůma však pojednal své sonety komorně a intimně. Provázíme malíře Muchu z pařížské kavárny do ateliéru ve Zbirohu\, absolvujeme s ním tanec druidů\, pouť slovanských věrozvěstů i Libušino proroctví\, jež se knížeti Přemyslovi nezdá\, a tak říká věštkyni: "Nosíš v hlavě divné věci".&nbsp\;Epopej zazní na koncertě mezi Muchovými plátny spolu s motetem Aqua et vino\, které představuje víno jako nositele umění\, zdraví a křesťanské mystiky. Autorem hudby je v obou případech Lukáš Hurník.Účinkují:SILENTIUM! ensemble pod vedením sbormistryně Terezy VálkovéPatrik Buchta – varhanyJán Prievozník – kontrabasJiří Miroslav Procházka – sólo (basbaryton)Ke koncertu si můžete zakoupit vstupenku na prohlídku Slovanské epopeje od 17:00 hodin.
LOCATION:Moravský Krumlov
END:VEVENT
END:VCALENDAR