BEGIN:VCALENDAR
VERSION:2.0
CALSCALE:GREGORIAN
PRODID:-//MyApp//Calendar 1.0//EN
BEGIN:VEVENT
METHOD:PUBLISH
UID:53804@regionalniportaly.cz
DTSTAMP:20260423T014442Z
DTSTART;VALUE=DATE:20250502
DTEND;VALUE=DATE:20250503
SUMMARY:VYŠEHRAD DVJE
DESCRIPTION:
LOCATION:Zbýšov
END:VEVENT
END:VCALENDAR