BEGIN:VCALENDAR
VERSION:2.0
CALSCALE:GREGORIAN
PRODID:-//MyApp//Calendar 1.0//EN
BEGIN:VEVENT
METHOD:PUBLISH
UID:53476@regionalniportaly.cz
DTSTAMP:20260422T235829Z
DTSTART;VALUE=DATE:20250531
DTEND;VALUE=DATE:20250601
SUMMARY:Za kounickou Frankovkou
DESCRIPTION:Putování Za kounickou Frankovkou nabízí příležitost ochutnat Frankovku a další skvělá vína od malých a středních vinařů dolnokounického regionu.\n \nX. ročník pořádá Bratrstvo vinařů a kopáčů 1737\, z.s.\n \nZačátek akce v 9.30 hod.\n \nV ceně vstupného je zahrnuta sklenička\, taštička\, mapka\, platební náramek s čipem na individuální nabití Franků (1 Frank = 10 Kč) a autobusová doprava mezi obcemi.\n \nZakoupení vstupného a platby přes platební systém NFCtron.\n \nVstupné je možné zakoupit v online předprodeji.
LOCATION:Dolní Kounice
END:VEVENT
END:VCALENDAR