BEGIN:VCALENDAR
VERSION:2.0
CALSCALE:GREGORIAN
PRODID:-//MyApp//Calendar 1.0//EN
BEGIN:VEVENT
METHOD:PUBLISH
UID:53462@regionalniportaly.cz
DTSTAMP:20260422T222150Z
DTSTART;VALUE=DATE:20250725
DTEND;VALUE=DATE:20250726
SUMMARY:Djembe Marathon 2025
DESCRIPTION:Zveme vás na nezapomenutelnou cestu kolem světa plnou rytmů a tance. Zveme vás na festival Djembe marathon\, který se již tradičně uskuteční v nádherném prostředí Vrabčího hájku v Moravském Krumlově.&nbsp\;Přidejte se k nám na akci plné afrických rytmů\, vzrušující hry na japonské bubny Taiko i energických a podmanivých rytmů brazilských a balkánských.Co vás čeká?Nabitý program plný hudby a tance.Příležitost objevit kouzlo hudby z různých koutů světa.Sobotní ranní jóga pro příjemný začátek dne.&nbsp\;&nbsp\;Tradiční workshopy hry na djembe a tance pro všechny věkové kategorie.Workshop hry na japonské bubny Taiko.Kdy: 25. a 26. července 2025Kde: Moravský Krumlov - Vrabčí hájekPřijďte s námi sdílet radost z hudby\, tance a společného setkání.Těšíme se na vás!
LOCATION:Moravský Krumlov
END:VEVENT
END:VCALENDAR