BEGIN:VCALENDAR
VERSION:2.0
CALSCALE:GREGORIAN
PRODID:-//MyApp//Calendar 1.0//EN
BEGIN:VEVENT
METHOD:PUBLISH
UID:53035@regionalniportaly.cz
DTSTAMP:20260422T110949Z
DTSTART;VALUE=DATE:20260109
DTEND;VALUE=DATE:20260110
SUMMARY:Pavel Šporcl - Rebel with the blue violin
DESCRIPTION:Nejnovější program plný rockových hitůPavel Šporcl se v tomto zbrusu novém projektu poprvé představuje jako rockový houslista.Připravte se na neuvěřitelnou jízdu plnou známých rockových hitů\, jejichž interpretace vás zvedne ze židle. To vše v podání našeho nejvýznamnějšího houslisty a jeho nové kapely spojující špičkové interprety z oblasti jazzu a rocku. Na vybraných vystoupení se mimo jiné se představí nejlepší virtuóz současnosti na Hammondovy klávesy Američan Brian Charette\, nominovaný na Cenu Grammy\, vyhledávaný bubeník Otto Hejnic\, a kytarista Sebastian Skalitzky.
LOCATION:Zbýšov
END:VEVENT
END:VCALENDAR