BEGIN:VCALENDAR
VERSION:2.0
CALSCALE:GREGORIAN
PRODID:-//MyApp//Calendar 1.0//EN
BEGIN:VEVENT
METHOD:PUBLISH
UID:52890@regionalniportaly.cz
DTSTAMP:20260423T032227Z
DTSTART;VALUE=DATE:20250417
DTEND;VALUE=DATE:20250418
SUMMARY:Minecraft film
DESCRIPTION:Nesourodá banda čtyř přátel se potýká s všednodenními problémy\, když tu je to zčistajasna protáhne záhadným portálem do Overworldu: bizarního\, krychloidního a zázračného světa\, který žije z ryzí představivosti…Dobrodružn\,&nbsp\;akční\, rodinný film.Režie: Jared Hessdabováno\, 100 minut
LOCATION:Zbýšov
END:VEVENT
END:VCALENDAR