BEGIN:VCALENDAR
VERSION:2.0
CALSCALE:GREGORIAN
PRODID:-//MyApp//Calendar 1.0//EN
BEGIN:VEVENT
METHOD:PUBLISH
UID:52497@regionalniportaly.cz
DTSTAMP:20260422T235957Z
DTSTART;VALUE=DATE:20250517
DTEND;VALUE=DATE:20250518
SUMMARY:KETKOVÁK 2025
DESCRIPTION:Výjimečný hudební festival v nádherném údolí u řeky Oslavy\, na louce pod skálou\,zvané "Ketkovák"\, ráje nejen všech trempů\, kousek od obce Senorady zahájí&nbsp\;hudební skupina s bohatými zkušenostmi&nbsp\; z českých i zahraničních country a folk.&nbsp\;podíí U-STYLE.Ve druhém koncertu vystoupí s krásnými\, nesmrtelnými i novými písněmi HonzaNedvěd ml. PŘÍBUZNÍ.Roman Horký a KAMELOT - zpěvák\, kytarista\, hudební skladatel jedné z&nbsp\;nejúspěšnější folkové a trampské hudební skupiny České a Slovenské republikybude třetím souborem a vystoupí v plnohodnotném koncertu.&nbsp\;Jedinečným zážitkem bude uvedení 6ti písní (tři od Kamelot\, tři od Honzy Nedvěda)\, které zahrají společně Roman Horký Kamelot \, Honza Nedvěd ml. PŘÍBUZNÍ a všichni návštěvníci\, kteří přijdou s kytarami\, či dalšími hudebními nástroji.&nbsp\;Více o této události i společných písních\, jejich výběru se dozvíte na internetových&nbsp\;stránkách a sociálních sítích vystupujících hudebních souborů.VSTUPNÉ: PŘEDPRODEJ V SÍTI SMSTICKET490\,- do 17. dubna 2025590\,- do 15. května 2025690\,- 16. - 17. května a na místě.&nbsp\;
LOCATION:Senorady
END:VEVENT
END:VCALENDAR