BEGIN:VCALENDAR
VERSION:2.0
CALSCALE:GREGORIAN
PRODID:-//MyApp//Calendar 1.0//EN
BEGIN:VEVENT
METHOD:PUBLISH
UID:52480@regionalniportaly.cz
DTSTAMP:20260423T033220Z
DTSTART;VALUE=DATE:20250706
DTEND;VALUE=DATE:20250707
SUMMARY:Aneta Langerová - Zázračná písně krajina
DESCRIPTION:Aneta Langerová - Zázračná písně krajinaAneta Langerová v roce 2024 oslavila 20 let\, které zasvětila své cestě za hudebním snem.&nbsp\;Začátkem roku vydala kompilaci Zázračná písně krajina 20 LET a nový singl Zázračná písně krajina. S kapelou a smyčcovým triem slavila celý rok na turné\, které v říjnu završila pěti symfonickými koncerty s Janáčkovou filharmonií Ostrava. Anetiny písně tím získaly barvitý orchestrální zvuk\, který i díky aranžím Jakuba Zitka přenesl publikum až do filmového prostoru představivosti. Záznam z koncertu Zázračná písně krajina 20 LET Symfonická vyšel v prosinci digitálně i na trojvinylu a zachycuje jedinečnou atmosféru rozzářené Lucerny\, kde se k hudebníkům připojil také Maranatha Gospel Choir.&nbsp\;&nbsp\;„Jsem ráda za každého z vás\, kdo se mnou sdílí pouť Zázračnou písně krajinou\, kde každý smí sám sebou být. Připadám si jako poutník\, který objevuje stále nová a nová hudební tajemství. Fascinuje mě svět plný fantazie\, představ a emocí… Hudba se za tu dobu stala mým způsobem komunikace. Je spojením s lidmi\, které osobně neznám\, ale přitom mám pocit\, že mi rozumí a já jim… tomu říkám štěstí. Proto pro mě jsou živé koncerty tak obohacující a inspirativní. Těším se ale také na to\, až získám odstup a nechám na gramofonu rozeznít Symfonickou Zázračnou písně krajinu\, náš nový přírůstek do vinylové rodiny. Ohlédnu se za rokem oslav mých 20 let na hudební scéně a na to\, co jsme společně s milovanými muzikanty\, spolupracovníky a také fanoušky zažili. A další hudební dobrodružství nás stále čekají\,“ říká Aneta k oslavám 20 let.&nbsp\;Aneta během svého putování hudební krajinou nikdy neztratila samu sebe. Její touha po autenticitě ji naopak přinutila vybrat si těžší cestu a stát se nejen zpěvačkou a hudebnicí\, ale také autorkou. Možnost komunikovat hudbou\, sdílet své pocity a spojit se s lidmi\, je pro ni splněný sen a to nejkrásnější\, co ji potkalo.&nbsp\;&nbsp\;Po završení oslav tak vstupuje do další hudební etapy a se svými milovanými muzikanty má v plánu vystoupení na festivalech\, slavnostech a koncertech po krásných místech naší milované domoviny.
LOCATION:Moravský Krumlov
END:VEVENT
END:VCALENDAR