BEGIN:VCALENDAR
VERSION:2.0
CALSCALE:GREGORIAN
PRODID:-//MyApp//Calendar 1.0//EN
BEGIN:VEVENT
METHOD:PUBLISH
UID:52471@regionalniportaly.cz
DTSTAMP:20260423T050223Z
DTSTART;VALUE=DATE:20250321
DTEND;VALUE=DATE:20250322
SUMMARY:Povídání o pejskovi a kočičce
DESCRIPTION:
LOCATION:Zbýšov
END:VEVENT
END:VCALENDAR