BEGIN:VCALENDAR
VERSION:2.0
CALSCALE:GREGORIAN
PRODID:-//MyApp//Calendar 1.0//EN
BEGIN:VEVENT
METHOD:PUBLISH
UID:52425@regionalniportaly.cz
DTSTAMP:20260423T032351Z
DTSTART;VALUE=DATE:20250410
DTEND;VALUE=DATE:20250411
SUMMARY:Beseda s Naďou Horákovou: Nebeská růže
DESCRIPTION:Beseda se spisovatelkou Naďou Horákovou o nově vydané knize Nebeská růže\, dotýkající se historie kláštera Rosa Coeli v Dolních Kounicích.
LOCATION:Dolní Kounice
END:VEVENT
END:VCALENDAR