BEGIN:VCALENDAR
VERSION:2.0
CALSCALE:GREGORIAN
PRODID:-//MyApp//Calendar 1.0//EN
BEGIN:VEVENT
METHOD:PUBLISH
UID:52180@regionalniportaly.cz
DTSTAMP:20260423T032420Z
DTSTART;VALUE=DATE:20250417
DTEND;VALUE=DATE:20250418
SUMMARY:Vyšehrad Dvje
DESCRIPTION:Zní to možná neuvěřitelně\, ale Lavi v pokračování Vyšehradu znovu dostává šanci. A tentokrát dokonce v podobě zahraničního angažmá! Už jeho let do Anglie ale skončí fiaskem a jak se dá předpokládat\, jeho jazyková výbava mu nepřinese mnoho úspěchů ani v novém působišti. Tentokrát ho však průšvihy nepřivedou do FC Slavoj Vyšehrad\, ale „spadne“ až do vesnického FK Smrkov. A tady ho čeká spousta překvapení včetně toho nejdůležitějšího\, které odhalí díky náhodnému čůrání u pangejtu…&nbsp\;
LOCATION:Zbýšov
END:VEVENT
END:VCALENDAR