BEGIN:VCALENDAR
VERSION:2.0
CALSCALE:GREGORIAN
PRODID:-//MyApp//Calendar 1.0//EN
BEGIN:VEVENT
METHOD:PUBLISH
UID:52150@regionalniportaly.cz
DTSTAMP:20260423T014738Z
DTSTART;VALUE=DATE:20250503
DTEND;VALUE=DATE:20250504
SUMMARY:Beseda - Život v komtrastu! Teenager a rodič!
DESCRIPTION:Další tématická sobota v Kolpingu - tentokrát sobotní odpoledne bude patřit besedě na téma Život v kontrastu.Máme velkou radost\, že nás opět navštíví speciální pedagožka Mgr. Lenka Ficová - speciální pedagog\, lektorka\, spisovatelka\, která byla nominována na cenu GLOBAL TEACHER PRIZE a je zapsaná na seznamu AUTORITY NÁRODA.Její profese\, jak ráda s úsměvem říká\, je „univerzální pedagog“ - paní Ficová má plnou aprobaci pro učitelství prvního stupně běžných i speciálních škol\, pro učitelství druhého stupně speciálních škol\, pro učitelství předškolní ve speciálních i běžných zařízeních\, pro výkon povolání speciálního pedagoga (s výjimkou oftalmopedie) v poradenských i speciálních institucí.Už teď se těšíme na besedu s Mgr. Lenkou Ficovou.Pokud chcete i v y s námi besedovat nezapomeňte se přihlásit v sekci vstupenky nebo na tel. čísle +420 728 407 771.\nTěšíme se na Vás!
LOCATION:Moravský Krumlov
END:VEVENT
END:VCALENDAR