BEGIN:VCALENDAR
VERSION:2.0
CALSCALE:GREGORIAN
PRODID:-//MyApp//Calendar 1.0//EN
BEGIN:VEVENT
METHOD:PUBLISH
UID:52149@regionalniportaly.cz
DTSTAMP:20260423T001159Z
DTSTART;VALUE=DATE:20250720
DTEND;VALUE=DATE:20250721
SUMMARY:Letní pobytový tábor Kolpingovy rodiny Moravský Krumlov - Na dvoře Julia Caesara.
DESCRIPTION:Hlásíme\, že i letos se vydáváme na letní tábor. Tentokrát si nás vybral římský císař Julius Caesar\, který nás přijme do své čestné stráže. Naším cílem bude ho ochránit před všemi intrikami Starověkého Říma a kdo ví\, třeba se během jedné z výprav podíváme i k sousedům Řekům na posvátnou horu Olymp.V letošním roce pojedeme do krásné táborové základny Dřevotvarka u vesničky Podhradí nad Dyjí. Budeme ubytovaní v chatkách po 4 a bude nám zprostředkována plná penze (5 jídel denně). Budeme zde mít vše co potřebujeme: zděné sociální zařízení (WC a Sprchy)\, zděnou společenskou místnost\, hřiště na fotbal i volejbal\, krásné lesy\, řeku i bazén. Minulé roky nám lesy moc chyběly\, protože v místech kam jsme jezdili byly zdevastované kůrovcem. Nyní se opět vracíme do přírody\, jak se na táborech sluší a patří.Pokud se nám podaří získat dostatečný počet účastníků budeme mít celé tábořiště sami pro sebe! Takže nás sdílejte\, lajkujte\, pište nám a hezky o nás mluvte!
LOCATION:Moravský Krumlov
END:VEVENT
END:VCALENDAR