BEGIN:VCALENDAR
VERSION:2.0
CALSCALE:GREGORIAN
PRODID:-//MyApp//Calendar 1.0//EN
BEGIN:VEVENT
METHOD:PUBLISH
UID:52148@regionalniportaly.cz
DTSTAMP:20260423T015408Z
DTSTART;VALUE=DATE:20250325
DTEND;VALUE=DATE:20250326
SUMMARY:Jak se pečujícím počítá důchod?
DESCRIPTION:Pečující si mohou klást otázku\, jaký dopad budou mít ta životní období\, kdy místo práce pečovali či pečují o děti\, rodiče nebo jiné rodinné příslušníky s hendikepem\, na jejich budoucí důchod? Co to je náhradní doba pojištění?V jakých případech a za jakých podmínek se doba péče pro nárok na důchod a jeho výši započítá?Na všechny tyto otázky najdete odpověď\, stačí jen přijít!\nAkce je ZDARMA.\nPřihlášení na tuto akci buď na tel.čísle +420 728 407 771 nebo v sekci stupenky.\nTěšíme se na Vás.
LOCATION:Moravský Krumlov
END:VEVENT
END:VCALENDAR