BEGIN:VCALENDAR
VERSION:2.0
CALSCALE:GREGORIAN
PRODID:-//MyApp//Calendar 1.0//EN
BEGIN:VEVENT
METHOD:PUBLISH
UID:52147@regionalniportaly.cz
DTSTAMP:20260423T034448Z
DTSTART;VALUE=DATE:20250329
DTEND;VALUE=DATE:20250330
SUMMARY:Jídlo\, nápoje\, energetické drinky? Jak ovlivňují psychiku a kondici nejen u našich dětí?
DESCRIPTION:Zveme vás na přednášku výživové poradkyně\, Ing. Veroniky Hanzlíkové\, která už několikrát u nás přednášela a setkání se vždy sešlo s pozitivním ohlasem.Na tématickém setkání se dozvíte více o jídle\, potravinách a nápojích a o jejich vlivu na naši kondici a psychiku. Dozvíte se\, které potraviny a doplňky stravy dokážou podpořit nejen náš fyzický stav\, ale také emoční stabilitu. Ukážete si\, kolik cukru najdete v nejrůznějších nápojích a energetických drincích a také se dozvíte\, jak moc ovlivňuje kofein v čaji\, čokoládě a kofeinových nápojích (káva\, drinky) naši pozornost\, energii a spánek.Vítáni jsou dospělí\, rodiče dětí školou povinných a také starší děti (cca od 2. stupně ZŠ).\nPo přednášce můžou účastníci využít analyzační váhu\, která ukazuje množství tuku (vč. viscerálního)\, vody a svalů v těle\, celkovou kondici a metabolický věk.Více informací a přihlášení na tel.čísle +420 728 771 nebo na odkaze v sekci vstupenky.\nTěšíme se na Vás.
LOCATION:Moravský Krumlov
END:VEVENT
END:VCALENDAR