BEGIN:VCALENDAR
VERSION:2.0
CALSCALE:GREGORIAN
PRODID:-//MyApp//Calendar 1.0//EN
BEGIN:VEVENT
METHOD:PUBLISH
UID:52146@regionalniportaly.cz
DTSTAMP:20260423T033944Z
DTSTART;VALUE=DATE:20250329
DTEND;VALUE=DATE:20250330
SUMMARY:Kurz první pomoci (nejen) pro maminky
DESCRIPTION:Kurz první pomoci (nejen) pro maminky pořádáme díky jeho úspěšnosti už potřetí. Jsme vděčni\, že nás navštíví opět zkušení záchranáči Mgr. Helena Palasová a Marek Zelinka a předají nám cenné informace\, jak se zachovat v krizových situacích.Jak vypadá první pomoc u kojence? U batolete? Malého dítěte či seniora? To vše se dozvíte a navíc budete moct vyzkoušet na modelech různých velikostí.Na akci je nutné se přihlásit na tel.čísle: +420 728 407 771 nebo na formuláři v sekci vstupenky. Těšíme se na Vás.
LOCATION:Moravský Krumlov
END:VEVENT
END:VCALENDAR