BEGIN:VCALENDAR
VERSION:2.0
CALSCALE:GREGORIAN
PRODID:-//MyApp//Calendar 1.0//EN
BEGIN:VEVENT
METHOD:PUBLISH
UID:51996@regionalniportaly.cz
DTSTAMP:20260423T000221Z
DTSTART;VALUE=DATE:20250602
DTEND;VALUE=DATE:20250603
SUMMARY:Úsměvy Jaromíra Hanzlíka
DESCRIPTION:Večer s neopakovatelnou&nbsp\;a osobní atmosférou\, který se bude skládat&nbsp\;z&nbsp\;divadelních a filmových historek z&nbsp\;více než třicetileté herecké práce pana Hanzlíka\,&nbsp\;doplněn&nbsp\;krátkým promítnutím průřezu filmových ukázek.
LOCATION:Oslavany
END:VEVENT
END:VCALENDAR