BEGIN:VCALENDAR
VERSION:2.0
CALSCALE:GREGORIAN
PRODID:-//MyApp//Calendar 1.0//EN
BEGIN:VEVENT
METHOD:PUBLISH
UID:51972@regionalniportaly.cz
DTSTAMP:20260422T172510Z
DTSTART;VALUE=DATE:20251002
DTEND;VALUE=DATE:20251003
SUMMARY:Dalibor Janda a Prototyp
DESCRIPTION:Koncer Dalibora Jandy\, jedné z nejznámějších českých hudebních stálic naší země\, s kapelou Prototyp.Známé hity Kde jsi?\, Hurikán\, Oheň\, voda\, vítr\,…&nbsp\;
LOCATION:Zbýšov
END:VEVENT
END:VCALENDAR