BEGIN:VCALENDAR
VERSION:2.0
CALSCALE:GREGORIAN
PRODID:-//MyApp//Calendar 1.0//EN
BEGIN:VEVENT
METHOD:PUBLISH
UID:51815@regionalniportaly.cz
DTSTAMP:20260423T032458Z
DTSTART;VALUE=DATE:20250306
DTEND;VALUE=DATE:20250307
SUMMARY:Moře na dvoře
DESCRIPTION:Sympatický Josef (Ondřej Vetchý) je uznávaný mistr houslař\, který s radostí sleduje\, jak jeho nástroje přinášejí hudbu lidem po celém světě. Nejvíce však miluje svůj klidný život ve skromné dílně na dvoře pavlačového domu. Nikdy necestoval k moři – jeho „moře“ je malá louže na dvoře\, kterou pečlivě chrání\, aby měli ptáci kde pít. Jeho jedinou společnicí je věrná fenka Pampeliška. Josef už léta tajně obdivuje svou krásnou sousedku Anežku (Linda Rybová) a pravidelně se těší na středeční šachové partie s přítelem Václavem (Jiří Langmajer)\, charismatickým ladičem pian\, který svou šarmantností okouzluje nejednu pianistku. I přesto\, že Josef vytvořil řadu mistrovských houslí\, stále váhá použít své nejcennější dřevo\, které si schovává pro ten pravý okamžik. Má přece celý život před sebou – na mistrovské housle i na lásku k Anežce. Jenže osud může všechno změnit během jediného okamžiku. Když si Josef uvědomí\, že čas není nekonečný\, rozhodne se přestat odkládat své sny. S podporou přátel začne konečně žít naplno – vytvoří své mistrovské housle a najde pravou lásku\, která promění jeho život navždy.
LOCATION:Zbýšov
END:VEVENT
END:VCALENDAR