BEGIN:VCALENDAR
VERSION:2.0
CALSCALE:GREGORIAN
PRODID:-//MyApp//Calendar 1.0//EN
BEGIN:VEVENT
METHOD:PUBLISH
UID:51357@regionalniportaly.cz
DTSTAMP:20260423T014631Z
DTSTART;VALUE=DATE:20250815
DTEND;VALUE=DATE:20250816
SUMMARY:Léto pod věží " ALBAND A TUBLATANKA"
DESCRIPTION:
LOCATION:Zbýšov
END:VEVENT
END:VCALENDAR