BEGIN:VCALENDAR
VERSION:2.0
CALSCALE:GREGORIAN
PRODID:-//MyApp//Calendar 1.0//EN
BEGIN:VEVENT
METHOD:PUBLISH
UID:50902@regionalniportaly.cz
DTSTAMP:20260422T124731Z
DTSTART;VALUE=DATE:20251207
DTEND;VALUE=DATE:20251208
SUMMARY:Javory - vánoční koncert
DESCRIPTION:Vánoční koncert slavné sourozenecké dvojice Hany a Petra&nbsp\;Ulrychových za doprovodu kapely Javory.&nbsp\;
LOCATION:Zbýšov
END:VEVENT
END:VCALENDAR