BEGIN:VCALENDAR
VERSION:2.0
CALSCALE:GREGORIAN
PRODID:-//MyApp//Calendar 1.0//EN
BEGIN:VEVENT
METHOD:PUBLISH
UID:50899@regionalniportaly.cz
DTSTAMP:20260422T142738Z
DTSTART;VALUE=DATE:20251120
DTEND;VALUE=DATE:20251121
SUMMARY:Sex\, Drugs\, Rock & Roll
DESCRIPTION:Hrají:Sarah HaváčováneboAnna Dvořáková\,Radim Novák\,Martin Trnavský
LOCATION:Zbýšov
END:VEVENT
END:VCALENDAR