BEGIN:VCALENDAR
VERSION:2.0
CALSCALE:GREGORIAN
PRODID:-//MyApp//Calendar 1.0//EN
BEGIN:VEVENT
METHOD:PUBLISH
UID:50898@regionalniportaly.cz
DTSTAMP:20260422T185637Z
DTSTART;VALUE=DATE:20251113
DTEND;VALUE=DATE:20251114
SUMMARY:OSM EUR NA HODINU
DESCRIPTION:Osm eur na hodinu je zběsilá komedie o sobectví i štědrosti.Jacques a Laurence\, bohatý buržoazní pár středního věku\, zaměstnává na černo podivnou paní na úklid. Rosa je hotová nešťastnice: Nejenže se nechá vykořisťovat svými „zaměstnavateli“ a stará se o svého přítele Miguela\, který se od ní nechá živit\, ale každý den se jí přihodí nějaký malér. Jednou ztratí telefon\, podruhé si zablokuje krk\, třetí den krvácí z nosu… Řízením osudu se ta smůla přenese na Jacqua s Laurence\, kteří se rozhodnou udělat cokoli\, aby Rosu a především sebe zachránili od podivného prokletí. Nutno zmínit\, že Rosa je ve skutečnosti muž - transvestita. Proč vlastně pomáháme druhým\, pakliže nejde o náš vlastní prospěch?&nbsp\;Autor:Sébastien ThiéryRežie:Antonín ProcházkaHrají:Martin Zounar\, Martin Kraus\, Martina Randová nebo Daniela Šinkorová\, Antonín Procházka nebo Zbyšek Pantůček&nbsp\;
LOCATION:Zbýšov
END:VEVENT
END:VCALENDAR